BEGIN:VCALENDAR
VERSION:2.0
PRODID:-//Kalender//
BEGIN:VEVENT
SUMMARY:Baurecht: Abnahme – Umgang mit Verzögerungstricks der Auftragge
 berseite
DTSTART:20260707T080000Z
DTEND:20260707T130000Z
DTSTAMP:20260420T022931Z
UID:event_ical_eventmanagement_2224
DESCRIPTION:Hinweis: Für E-Club Mitglieder beträgt die Gebühr 125\,00 
 € pro Person zzgl. USt. Die entgegengesetzte Bedeutung der Abnahme für 
 die Vertragspartner ist oft der Grund für die kreativen Einfälle der Auf
 traggeberseite\, die Abnahme zu verzögern oder zu verweigern. Der Kulmina
 tionspunkt im Baugeschehen ist die Abnahme. Kein anderer Moment ist so wic
 htig wie dieser. Mit der Abnahme stellen sich Rechtswirkungen ein\, die f
 ür den Auftragnehmer ebenso fundamental sind\, wie für den Auftraggeber.
  Die Praxis kennt viele Beispiele\, in denen die Fehler bei der Abnahme da
 nn zu Vergütungsausfällen in Größenordnungen geführt haben. Deshalb i
 st eine korrekte Abnahme so wichtig für den Erfolg des Werkunternehmers. 
 Schwerpunkte Rechtsinhalt der Abnahme Regelungen zur Abnahme – Umgang mi
 t rechtsunwirksamen AGB Formen der Abnahme Der einfache Weg zur Abnahme Um
 gang mit Abnahmeverweigerungen Die Bedeutung der Zustandsfeststellung nach
  verweigerter Abnahme Das Seminar ist als 5-Stunden-Seminar konzipiert. Es
  besteht ausreichend Zeit für die Klärung von Fragen und zur Diskussion.
  Frei von juristischem Kauderwelsch\, lebhaft und verständlich werden aus
  dem Prozessalltag haustechnische Fälle vorgestellt und Tipps zur Beherrs
 chung wiederkehrender juristischer Fragen vermittelt. Die aktuelle Rechtsp
 rechung zu den Themen findet Berücksichtigung. Manuskriptunterlagen werde
 n zur Verfügung gestellt. Referent: RA Dr. jur. Hans-Michael Dimanski
LOCATION:ICR Informatik Center Roggentin\, Konrad-Zuse-Straße 1 A\, 18184
  Roggentin\, Deutschland
END:VEVENT
END:VCALENDAR
