BEGIN:VCALENDAR
VERSION:2.0
PRODID:-//Kalender//
BEGIN:VEVENT
SUMMARY:Baurecht: Gewährleistung und Garantie in der Haustechnik
DTSTART:20261112T090000Z
DTEND:20261112T140000Z
DTSTAMP:20260420T030249Z
UID:event_ical_eventmanagement_2225
DESCRIPTION:Hinweis: Für E-Club Mitglieder beträgt die Gebühr 125\,00 
 € pro Person zzgl. USt. Kein anderes Gebiet im Baurecht bereitet an der 
 Basis so viele Verständnisschwierigkeiten\, wie die Gewährleistungsprobl
 ematik. Das beginnt bei der Abnahme\, die mit entscheidenden Rechtsfolgen 
 verknüpft ist\, die Auftragnehmer kennen müssen. Hersteller\, Händler\,
  Verbraucher aber leider auch ausführende Unternehmen und Planer beurteil
 en immer wieder völlig falsch\, wann ein Gewährleistungsfall vorliegt un
 d wie man dann mit Ansprüchen umgeht. Gewährleistungen und Garantie sind
  auseinander zu halten\, ebenso wie Werkvertragsrecht und Kaufrecht. Wenig
 er als 10% aller Mangelanzeigen betreffen rechtlich die bauvertragliche bz
 w. gesetzliche Gewährleistungsproblematik und über 80% der Abnahmeverwei
 gerungen durch Auftraggeber sind als rechtlich nicht tragbar eingestuft. S
 chwerpunkte: Startpunkt für die Gewährleistung -Bedeutung der Abnahme In
 halte der Gewährleistungsverpflichtung Abgrenzungskriterien zur Garantie 
 Differenzierte Vertragsarten – differenzierte Gewährleistungsfristen Pr
 obleme in der Leistungskette Umgang mit unberechtigten Mangelanzeigen Regr
 essmöglichkeiten gegenüber Lieferanten im Zusammenhang mit mangelhaften 
 Materialien Haftung für die Nebenkosten im Zusammenhang mit materialbedin
 gten Mangelbeseitigungsarbeiten Das Seminar ist als 5-Stunden-Seminar konz
 ipiert. Es besteht ausreichend Zeit für die Klärung von Fragen und zur D
 iskussion. Frei von juristischem Kauderwelsch\, lebhaft und verständlich 
 werden aus dem Prozessalltag haustechnische Fälle vorgestellt und Tipps z
 ur Beherrschung wiederkehrender juristischer Fragen vermittelt. Die aktuel
 le Rechtsprechung zu den Themen findet Berücksichtigung. Manuskriptunterl
 agen werden zur Verfügung gestellt. Referent: RA Dr. jur. Hans-Michael Di
 manski
LOCATION:ICR Informatik Center Roggentin\, Konrad-Zuse-Straße 1 A\, 18184
  Roggentin\, Deutschland
END:VEVENT
END:VCALENDAR
