BEGIN:VCALENDAR
VERSION:2.0
PRODID:-//Kalender//
BEGIN:VEVENT
SUMMARY:Messen und Prüfen
DTSTART:20261029T080000Z
DTEND:20261029T153000Z
DTSTAMP:20260420T030011Z
UID:event_ical_eventmanagement_2229
DESCRIPTION:Hinweis: Der Kostenbeitrag für E|CLUB-Mitglieder beträgt 97\
 ,50€ pro Person zzgl. USt. Wir bieten Ihnen eine umfangreiche Schulung z
 um Thema „Messen und Prüfen“ an. Zielgruppe des Seminars: Prüfen von
  elektrischen Anlagen und elektrischen Geräten Schwerpunkte:       1.
  Messung zur Überprüfung von Schutzmaßnahmen von elektrischen Anlagen n
 ach DIN VDE 0100 Teil 600 (Erstprüfung an elektrischen Anlagen)\, DIN VDE
  0105 Teil 100 (Wiederholungsprüfung an elektrischen Anlagen). 2. Messung
  zur Überprüfung von Schutzmaßnahmen an elektrischen Geräten nach VDE 
 701 VDE 702 Ihr Referent ist Michael Roick (Gossen Metrawatt GmbH). Gern k
 önnen zum Seminar eigene Prüf- und Messgeräte mitgebracht und genutzt w
 erden. Selbstverständlich werden Sie während des Seminars verpflegt.
LOCATION:ICR Informatik Center Roggentin\, Konrad-Zuse-Straße 1 A\, 18184
  Roggentin\, Deutschland
END:VEVENT
END:VCALENDAR
