BEGIN:VCALENDAR
VERSION:2.0
PRODID:-//Kalender//
BEGIN:VEVENT
SUMMARY:E-Check PV-Anlagen
DTSTART;TZID=Europe/Berlin:20260630T090000
DTEND;TZID=Europe/Berlin:20260630T163000
DTSTAMP:20260424T111605Z
UID:event_ical_eventmanagement_2230
DESCRIPTION:Hinweis: Für unsere E|CLUB-Mitglieder betragen die Gebühren 
 dieses Seminars 580\,00 Euro zzgl. MwSt. je Teilnehmer. In den vergangenen
  Jahren ist die in Deutschland neu installierte Solarstromleistung im vier
 stelligen MWp-Bereich gewachsen – auch hat die Zahl der Beschäftigten i
 n der PV-Branche um mehr als 50 Prozent zugenommen. Dieser Trend wird sich
  laut Wirtschaftsexperten fortsetzen. Zugleich erwarten die Kunden\, dass 
 ihre Anlagen einwandfrei arbeiten und den zugesagten Ertrag bringen. Die F
 olge: Regelmäßige Überprüfungen und Wartungen. Mit dem "E-CHECK PV" qu
 alifizieren Sie sich als wichtigster Ansprechpartner für den Kunden. Mit 
 seiner Fachkompetenz steht er dafür\, dass die Anlage sachkundig untersuc
 ht wird. Dadurch wird die Anlagenverfügbarkeit deutlich gesteigert und de
 r E- CHECK Fachbetrieb leistet einen wichtigen Beitrag zur Investitionssic
 herung seiner Kunden. Hier erfahren Sie alles über das normgerechte Erric
 hten und Prüfen von PV-Anlagen\, erlernen alle Messtechniken\, Fehlerdiag
 nosen\, Kennlinienaufnahmen sowie Thermographien und werden in Sachen Erdu
 ng\, Potentialausgleich\, Blitz und Überspannungsschutz auf den neusten S
 tand gebracht. Selbstverständlich wird auch auf die rechtssichere Dokumen
 tation aller Vorgänge eingegangen. Voraussetzung: Teilnahme an der E-CHEC
 K Zertifizierungsschulung + Teilnahme ist nur E-Markenbetrieben vorbehalt
 en Zielgruppe: Gesellen &amp\; Meister\, die Erfahrungen mit der Errichtun
 g von PV-Anlagen haben Zertifikat: Jeder Teilnehmer erhält ein Zertifikat
  über die Teilnahme mit Angabe der vermittelten Inhalte.
LOCATION:ICR Informatik Center Roggentin\, Konrad-Zuse-Straße 1 A\, 18184
  Roggentin\, Deutschland
END:VEVENT
END:VCALENDAR
