BEGIN:VCALENDAR
VERSION:2.0
PRODID:-//Kalender//
BEGIN:VEVENT
SUMMARY:Sachkundelehrgang TRGS 519-Anlage 4 C-Kleiner Asbestschein
DTSTART:20261116T070000Z
DTEND:20261117T161500Z
DTSTAMP:20260420T030410Z
UID:event_ical_eventmanagement_2248
DESCRIPTION:Hinweis: Für unsere E|CLUB-Mitglieder im LIV betragen die Geb
 ühren dieses Seminars 472\,00 Euro zzgl. MwSt. je Teilnehmer. Sehr geehrt
 e Damen und Herren\, wir laden Sie herzlich zu unserem Sachkundelehrgang T
 RGS 519-Anlage 4C (Kleiner Asbestschein) am 16. und 17. November 2026 in R
 oggentin  ein. Im Rahmen der Novellierung der Gefahrstoffverordnung sind 
 die Anforderungen an den Umgang mit asbesthaltigen Materialien weiter vers
 chärft worden. Gemäß TRGS 519 (Technische Regeln für Gefahrstoffe) ist
  es zwingend erforderlich\, dass Abbruch-\, Sanierungs- oder Instandhaltun
 gsarbeiten (ASI-Arbeiten) an fest gebundenen Asbestprodukten oder ASI-Arbe
 iten geringen Umfangs von mindestens einem Sachkundigen geleitet und beauf
 sichtigt werden. Mit diesem zweitägigen Lehrgang haben Sie die Möglichke
 it\, die erforderliche Sachkunde gemäß TRGS 519- Anlage 4C zu erwerben. 
 Diese Qualifikation ist unerlässlich\, um den gesetzlichen Anforderungen 
 gerecht zu werden und einen sicheren Umgang mit asbesthaltigen Materialien
  zu gewährleisten. Wir freuen uns auf Ihre Teilnahme! Seminarinhalte: Ein
 führung in die Asbestsanierung Entsorgung von Asbestabfällen Verwendung 
 von Asbest\, Abgrenzung von fest gebundenen und schwach gebundenen Asbest-
  produkten\, Erkennen von Asbest\, Entnahme von Materialproben\, Analyse v
 on Materialproben\, Abgrenzung der unterschiedlichen Asbestarbeiten Indust
 riesauger (Handhabung\, Prüfung\, Wartung)  Persönliche Schutzausrüstu
 ng Gesundheitsgefahren durch Asbest\, Berufskrankheiten\,arbeitsmedizinisc
 he Vorsorgeuntersuchungen Vorschriften und Regelungen für Tätigkeiten mi
 t Asbest\, TRGS 519 Sicherheitstechnische Maßnahmen Vorschriften und Rege
 lungen für Tätigkeiten mit Asbest\, bauordnungsrechtliche Anforderungen 
 Durchführung von Abbruch- Sanierungs- und Instandhaltungsarbeiten: Baust
 elleneinrichtung/ Abschottungen/ Arbeitsgeräte Besondere Maßnahmen bei A
 rbeiten mit geringer Exposition gemäß BGI 664 Am Ende des Lehrgangs wird
  eine schriftliche Abschlussprüfung durchgeführt. Veranstaltungsort: Inf
 ormatik Center Roggentin Konrad-Zuse-Straße 1 A 18184 Roggentin Am 16. No
 vember endet die Schulung um 17:15 Uhr\, am 17. November um 15:45 Uhr.
LOCATION:ICR Informatik Center Roggentin\, Konrad-Zuse-Straße 1 A\, 18184
  Roggentin\, Deutschland
END:VEVENT
END:VCALENDAR
